BEGIN:VCALENDAR
VERSION:2.0
PRODID:-//Forma Hauts De France - ECPv6.15.18//NONSGML v1.0//EN
CALSCALE:GREGORIAN
METHOD:PUBLISH
X-WR-CALNAME:Forma Hauts De France
X-ORIGINAL-URL:https://formahdf.com
X-WR-CALDESC:Évènements pour Forma Hauts De France
REFRESH-INTERVAL;VALUE=DURATION:PT1H
X-Robots-Tag:noindex
X-PUBLISHED-TTL:PT1H
BEGIN:VTIMEZONE
TZID:Europe/Paris
BEGIN:DAYLIGHT
TZOFFSETFROM:+0100
TZOFFSETTO:+0200
TZNAME:CEST
DTSTART:20250330T010000
END:DAYLIGHT
BEGIN:STANDARD
TZOFFSETFROM:+0200
TZOFFSETTO:+0100
TZNAME:CET
DTSTART:20251026T010000
END:STANDARD
BEGIN:DAYLIGHT
TZOFFSETFROM:+0100
TZOFFSETTO:+0200
TZNAME:CEST
DTSTART:20260329T010000
END:DAYLIGHT
BEGIN:STANDARD
TZOFFSETFROM:+0200
TZOFFSETTO:+0100
TZNAME:CET
DTSTART:20261025T010000
END:STANDARD
BEGIN:DAYLIGHT
TZOFFSETFROM:+0100
TZOFFSETTO:+0200
TZNAME:CEST
DTSTART:20270328T010000
END:DAYLIGHT
BEGIN:STANDARD
TZOFFSETFROM:+0200
TZOFFSETTO:+0100
TZNAME:CET
DTSTART:20271031T010000
END:STANDARD
END:VTIMEZONE
BEGIN:VEVENT
DTSTART;TZID=Europe/Paris:20260420T083000
DTEND;TZID=Europe/Paris:20260423T163000
DTSTAMP:20260422T110736
CREATED:20260421T081439Z
LAST-MODIFIED:20260421T081439Z
UID:3570-1776673800-1776961800@formahdf.com
SUMMARY:CACES® R486
DESCRIPTION:Dates de la formation : 20 au 23 avril 2026 \nPlaces restantes : Nous contacter \nEligible au CPF : Oui \nLieu : Corbehem \nDurée de la formation : 3 jours \nHoraires : 8h30-12h00 / 13h00-16h30 \nContactez-nous pour plus d’infos
URL:https://formahdf.com/event/caces-r486-55/
LOCATION:Forma Hauts de France\, 19 bis rue de la gare\, Corbehem\, 62112\, France
CATEGORIES:Caces
ORGANIZER;CN="FORMA Hauts de France":MAILTO:contact@formahdf.fr
END:VEVENT
BEGIN:VEVENT
DTSTART;TZID=Europe/Paris:20260422T083000
DTEND;TZID=Europe/Paris:20260422T163000
DTSTAMP:20260422T110736
CREATED:20260421T081732Z
LAST-MODIFIED:20260421T081732Z
UID:3574-1776846600-1776875400@formahdf.com
SUMMARY:PASS HTB OPERATEUR
DESCRIPTION:Date de la formation :22 avril 2026 \nPlaces restantes : Nous contacter \nEligible au CPF : Non \nLieu : Corbehem \nDurée de la formation : 1 journée \nHoraires : 8h30-12h00 / 13h00-16h30 \nContactez-nous pour plus d’infos
URL:https://formahdf.com/event/pass-htb-operateur-2/
LOCATION:Forma Hauts de France\, 19 bis rue de la gare\, Corbehem\, 62112\, France
CATEGORIES:Habilitation électrique
ORGANIZER;CN="FORMA Hauts de France":MAILTO:contact@formahdf.fr
END:VEVENT
BEGIN:VEVENT
DTSTART;TZID=Europe/Paris:20260427T083000
DTEND;TZID=Europe/Paris:20260428T163000
DTSTAMP:20260422T110736
CREATED:20260306T131248Z
LAST-MODIFIED:20260306T131248Z
UID:3552-1777278600-1777393800@formahdf.com
SUMMARY:Habilitation électrique BT-HT
DESCRIPTION:Dates de la formation : 27 et 28 avril 2026 \nPlaces restantes : Nous contacter \nEligible au CPF : Non \nLieu : Corbehem \nDurée de la formation : 2 jours \nHoraires : 8h30-12h00 / 13h00-16h30 \nContactez-nous pour plus d’infos
URL:https://formahdf.com/event/habilitation-electrique-bt-ht-27/
LOCATION:Forma Hauts de France\, 19 bis rue de la gare\, Corbehem\, 62112\, France
CATEGORIES:Habilitation électrique
ORGANIZER;CN="FORMA Hauts de France":MAILTO:contact@formahdf.fr
END:VEVENT
BEGIN:VEVENT
DTSTART;TZID=Europe/Paris:20260427T083000
DTEND;TZID=Europe/Paris:20260428T163000
DTSTAMP:20260422T110736
CREATED:20260421T081929Z
LAST-MODIFIED:20260421T081929Z
UID:3576-1777278600-1777393800@formahdf.com
SUMMARY:Habilitation électrique BT-HT
DESCRIPTION:Dates de la formation : 27 et 28 avril 2026 \nPlaces restantes : Nous contacter \nEligible au CPF : Non \nLieu : Corbehem \nDurée de la formation : 2 jours \nHoraires : 8h30-12h00 / 13h00-16h30 \nContactez-nous pour plus d’infos
URL:https://formahdf.com/event/habilitation-electrique-bt-ht-28/
LOCATION:Forma Hauts de France\, 19 bis rue de la gare\, Corbehem\, 62112\, France
CATEGORIES:Habilitation électrique
ORGANIZER;CN="FORMA Hauts de France":MAILTO:contact@formahdf.fr
END:VEVENT
BEGIN:VEVENT
DTSTART;TZID=Europe/Paris:20260429T083000
DTEND;TZID=Europe/Paris:20260430T163000
DTSTAMP:20260422T110736
CREATED:20260306T130908Z
LAST-MODIFIED:20260306T130908Z
UID:3550-1777451400-1777566600@formahdf.com
SUMMARY:CACES® R489
DESCRIPTION:Date de la formation : 29 et 30 avril 2026 \nPlaces restantes : Nous contacter \nEligible au CPF : Oui \nLieu : Corbehem \nDurée de la formation : 2 jours \nHoraires : 8h30-12h00 / 13h00-16h30 \nContactez-nous pour plus d’infos
URL:https://formahdf.com/event/caces-r489-65/
LOCATION:Forma Hauts de France\, 19 bis rue de la gare\, Corbehem\, 62112\, France
CATEGORIES:Caces
ORGANIZER;CN="FORMA Hauts de France":MAILTO:contact@formahdf.fr
END:VEVENT
BEGIN:VEVENT
DTSTART;TZID=Europe/Paris:20260429T083000
DTEND;TZID=Europe/Paris:20260430T163000
DTSTAMP:20260422T110736
CREATED:20260421T082224Z
LAST-MODIFIED:20260421T082224Z
UID:3578-1777451400-1777566600@formahdf.com
SUMMARY:CACES® R489
DESCRIPTION:Dates de la formation : 29 au 30 mars 2026 \nPlaces restantes : Nous contacter \nEligible au CPF : Oui \nLieu : Corbehem \nDurée de la formation : 2 jours \nHoraires : 8h30-12h00 / 13h00-16h30 \nContactez-nous pour plus d’infos
URL:https://formahdf.com/event/caces-r489-67/
LOCATION:Forma Hauts de France\, 19 bis rue de la gare\, Corbehem\, 62112\, France
CATEGORIES:Caces
ORGANIZER;CN="FORMA Hauts de France":MAILTO:contact@formahdf.fr
END:VEVENT
BEGIN:VEVENT
DTSTART;TZID=Europe/Paris:20260430T083000
DTEND;TZID=Europe/Paris:20260430T163000
DTSTAMP:20260422T110736
CREATED:20260421T082650Z
LAST-MODIFIED:20260421T082650Z
UID:3580-1777537800-1777566600@formahdf.com
SUMMARY:AIPR CONCEPTEUR
DESCRIPTION:Date de la formation : 30 avril 2026 \nPlaces restantes : Nous contacter \nEligible au CPF : Non \nLieu : Corbehem \nDurée de la formation : 1 journée \nHoraires : 8h30-12h00 / 13h00-16h30 \nContactez-nous pour plus d’infos
URL:https://formahdf.com/event/aipr-concepteur-3/
LOCATION:Forma Hauts de France\, 19 bis rue de la gare\, Corbehem\, 62112\, France
CATEGORIES:Prévention et secourisme
ORGANIZER;CN="FORMA Hauts de France":MAILTO:contact@formahdf.fr
END:VEVENT
END:VCALENDAR